BEGIN:VCALENDAR
VERSION:2.0
PRODID:-//Open-Xchange//8.45.77//EN
METHOD:PUBLISH
BEGIN:VTIMEZONE
TZID:Europe/Berlin
LAST-MODIFIED:20251211T094730Z
TZURL:https://www.tzurl.org/zoneinfo-outlook/Europe/Berlin
X-LIC-LOCATION:Europe/Berlin
BEGIN:DAYLIGHT
TZNAME:CEST
TZOFFSETFROM:+0100
TZOFFSETTO:+0200
DTSTART:19700329T020000
RRULE:FREQ=YEARLY;BYMONTH=3;BYDAY=-1SU
END:DAYLIGHT
BEGIN:STANDARD
TZNAME:CET
TZOFFSETFROM:+0200
TZOFFSETTO:+0100
DTSTART:19701025T030000
RRULE:FREQ=YEARLY;BYMONTH=10;BYDAY=-1SU
END:STANDARD
END:VTIMEZONE
BEGIN:VEVENT
DTSTAMP:20260310T084938Z
CLASS:PUBLIC
CREATED:20260310T084938Z
DESCRIPTION:Zeit: 24. Apr. 2026 11:00 AM Amsterdam\, Berlin\, Rom\, Stock
 holm\, Wien\nAn Zoom-Meeting teilnehmen\nhttps://denic-de.zoom.us/j/8525
 1816608?pwd=saPhf4Gc3fHafaozzw6cOJIJqHrXBT.1\n\nMeeting-ID: 852 5181 660
 8\nKenncode: 158195\n\n---\n\nSchnelleinwahl mobil\n+496950502596\,\,852
 51816608# Deutschland\n+496971049922\,\,85251816608# Deutschland\n\n---\
 n\nÜber SIP beitreten\n• 85251816608@zoomcrc.com\nKenncode: 158195\n\nBe
 itreten – So geht's\nhttps://denic-de.zoom.us/meetings/85251816608/invit
 ations?signature=hk-oGd736HTHdGI4CYyefKYAnd9qcX_1swhl6oRTbDA\n\n
DTEND;TZID=Europe/Berlin:20260424T123000
DTSTART;TZID=Europe/Berlin:20260424T110000
LAST-MODIFIED:20260310T084938Z
PRIORITY:0
SEQUENCE:0
SUMMARY:IGF-D Matinee
TRANSP:OPAQUE
UID:bd1cbb08-e1e4-4cd6-80a0-8ce3961928fe
X-MICROSOFT-CDO-BUSYSTATUS:BUSY
X-MICROSOFT-CDO-INTENDEDSTATUS:BUSY
END:VEVENT
END:VCALENDAR
